BEGIN:VCALENDAR
VERSION:2.0
PRODID:-//ChamberMaster//Event Calendar 2.0//EN
METHOD:PUBLISH
X-PUBLISHED-TTL:P3D
REFRESH-INTERVAL:P3D
CALSCALE:GREGORIAN
BEGIN:VEVENT
DTSTART;VALUE=DATE:20200818
DTEND;VALUE=DATE:20200820
TRANSP:TRANSPARENT
X-MICROSOFT-CDO-ALLDAYEVENT:TRUE
SUMMARY:Life of a Workers’ Comp Claim
DESCRIPTION:Bureau of Labor and Industries' Technical Assistance for Employers provides affordable trainings from employment law experts.\n\n\n\nBuilt specifically for Oregon employers\, supervisors\, managers\, and human resource professionals our seminars are an effective and proactive way to help keep your organization in compliance with labor laws.
X-ALT-DESC;FMTTYPE=text/html:Bureau of Labor and Industries&rsquo\;&nbsp\;Technical Assistance for Employers&nbsp\;provides affordable trainings from&nbsp\;employment law experts.<br />\n<br />\nBuilt specifically for Oregon employers\, supervisors\,&nbsp\;managers\, and human resource professionals our&nbsp\;seminars are an effective and proactive way to help&nbsp\;keep your organization in compliance with labor laws.
LOCATION:
UID:e.2053.1349
SEQUENCE:3
DTSTAMP:20260424T002929Z
URL:http://oregonstatechamber.chambermaster.com/events/details/life-of-a-workers-comp-claim-1349
END:VEVENT

END:VCALENDAR
